View In:
ArcGIS JavaScript
ArcGIS Online Map Viewer
ArcGIS Earth
ArcGIS Pro
Service Description:
Map Name: Map
Legend
All Layers and Tables
Layers:
Description:
Service Item Id: 5b7a3f77bdb14017840c5ba60887518a
Copyright Text:
Spatial Reference:
2893
(2893)
LatestVCSWkid(0)
Single Fused Map Cache: true
Tile Info:
- Height: 256.0
- Width: 256.0
- DPI: 96.0
-
Levels of Detail: 19
-
Level ID: 0
[ Start Tile, End Tile ]
- Resolution: 952133.2687229281
- Scale: 1.0968597192882519E9
-
Level ID: 1
[ Start Tile, End Tile ]
- Resolution: 476066.63436146406
- Scale: 5.484298596441259E8
-
Level ID: 2
[ Start Tile, End Tile ]
- Resolution: 238033.31718073203
- Scale: 2.7421492982206297E8
-
Level ID: 3
[ Start Tile, End Tile ]
- Resolution: 119016.65859036602
- Scale: 1.3710746491103148E8
-
Level ID: 4
[ Start Tile, End Tile ]
- Resolution: 59508.32929518301
- Scale: 6.855373245551574E7
-
Level ID: 5
[ Start Tile, End Tile ]
- Resolution: 29754.164647591504
- Scale: 3.427686622775787E7
-
Level ID: 6
[ Start Tile, End Tile ]
- Resolution: 14877.082323795752
- Scale: 1.7138433113878936E7
-
Level ID: 7
[ Start Tile, End Tile ]
- Resolution: 7438.541161897876
- Scale: 8569216.556939468
-
Level ID: 8
[ Start Tile, End Tile ]
- Resolution: 3719.270580948938
- Scale: 4284608.278469734
-
Level ID: 9
[ Start Tile, End Tile ]
- Resolution: 1859.635290474469
- Scale: 2142304.139234867
-
Level ID: 10
[ Start Tile, End Tile ]
- Resolution: 929.8176452372345
- Scale: 1071152.0696174335
-
Level ID: 11
[ Start Tile, End Tile ]
- Resolution: 464.90882261861725
- Scale: 535576.0348087167
-
Level ID: 12
[ Start Tile, End Tile ]
- Resolution: 232.45441130930863
- Scale: 267788.01740435837
-
Level ID: 13
[ Start Tile, End Tile ]
- Resolution: 116.22720565465431
- Scale: 133894.00870217918
-
Level ID: 14
[ Start Tile, End Tile ]
- Resolution: 58.113602827327156
- Scale: 66947.00435108959
-
Level ID: 15
[ Start Tile, End Tile ]
- Resolution: 29.056801413663578
- Scale: 33473.502175544796
-
Level ID: 16
[ Start Tile, End Tile ]
- Resolution: 14.528400706831789
- Scale: 16736.751087772398
-
Level ID: 17
[ Start Tile, End Tile ]
- Resolution: 7.2642003534158945
- Scale: 8368.375543886199
-
Level ID: 18
[ Start Tile, End Tile ]
- Resolution: 3.6321001767079473
- Scale: 4184.1877719430995
- Format: PNG
- Compression Quality: 0.0
- Origin: X: -1.2056072506320146E8
Y: 1.1115014305359295E8
- Spatial Reference: 2893
(2893)
LatestVCSWkid(0)
Initial Extent:
XMin: 1419315.0289617649
YMin: 494480.02476562484
XMax: 1444480.7323577607
YMax: 499881.7540299169
Spatial Reference: 2893
(2893)
LatestVCSWkid(0)
Full Extent:
XMin: 1358386.8449217975
YMin: 383395.6219125539
XMax: 1482892.575896725
YMax: 566190.7845367342
Spatial Reference: 2893
(2893)
LatestVCSWkid(0)
Units: esriFeet
Supported Image Format Types: PNG32,PNG24,PNG,JPG,DIB,TIFF,EMF,PS,PDF,GIF,SVG,SVGZ,BMP
Document Info:
Title: C:\Users\pzhovl99\Documents\FIDS\Fid\Fid.aprx
Author:
Comments:
Subject:
Category:
Keywords:
AntialiasingMode: None
TextAntialiasingMode: Force
Supports Dynamic Layers: false
MaxRecordCount: 1000
MaxSelectionCount: 0
MaxImageHeight: 4096
MaxImageWidth: 4096
Supported Query Formats: JSON, geoJSON, PBF
Supports Query Data Elements: true
Min Scale: 535576.0348087167
Max Scale: 8368.375543886199
Supports Datum Transformation: true
Child Resources:
Info
Supported Operations:
QueryLegends
Return Updates