{
 "currentVersion": 10.9,
 "cimVersion": "2.7.0",
 "serviceDescription": "",
 "mapName": "Map",
 "description": "",
 "copyrightText": "",
 "supportsDynamicLayers": false,
 "layers": [
  {
   "id": 0,
   "name": "AACO_FID_Update",
   "parentLayerId": -1,
   "defaultVisibility": true,
   "subLayerIds": null,
   "minScale": 0,
   "maxScale": 0,
   "type": "Feature Layer",
   "geometryType": "esriGeometryPolygon",
   "supportsDynamicLegends": true
  }
 ],
 "tables": [],
 "spatialReference": {
  "wkid": 2893,
  "latestWkid": 2893,
  "xyTolerance": 0.003280833333333333,
  "zTolerance": 0.001,
  "mTolerance": 0.001,
  "falseX": -120561100,
  "falseY": -95444400,
  "xyUnits": 3048.0060960121928,
  "falseZ": -100000,
  "zUnits": 10000,
  "falseM": -100000,
  "mUnits": 10000
 },
 "singleFusedMapCache": true,
 "tileInfo": {
  "rows": 256,
  "cols": 256,
  "dpi": 96,
  "format": "PNG",
  "compressionQuality": 0,
  "origin": {
   "x": -1.2056072506320146E8,
   "y": 1.1115014305359295E8
  },
  "spatialReference": {
   "wkid": 2893,
   "latestWkid": 2893,
   "xyTolerance": 0.003280833333333333,
   "zTolerance": 0.001,
   "mTolerance": 0.001,
   "falseX": -120561100,
   "falseY": -95444400,
   "xyUnits": 3048.0060960121928,
   "falseZ": -100000,
   "zUnits": 10000,
   "falseM": -100000,
   "mUnits": 10000
  },
  "lods": [
   {
    "level": 0,
    "resolution": 952133.2687229281,
    "scale": 1.0968597192882519E9
   },
   {
    "level": 1,
    "resolution": 476066.63436146406,
    "scale": 5.484298596441259E8
   },
   {
    "level": 2,
    "resolution": 238033.31718073203,
    "scale": 2.7421492982206297E8
   },
   {
    "level": 3,
    "resolution": 119016.65859036602,
    "scale": 1.3710746491103148E8
   },
   {
    "level": 4,
    "resolution": 59508.32929518301,
    "scale": 6.855373245551574E7
   },
   {
    "level": 5,
    "resolution": 29754.164647591504,
    "scale": 3.427686622775787E7
   },
   {
    "level": 6,
    "resolution": 14877.082323795752,
    "scale": 1.7138433113878936E7
   },
   {
    "level": 7,
    "resolution": 7438.541161897876,
    "scale": 8569216.556939468
   },
   {
    "level": 8,
    "resolution": 3719.270580948938,
    "scale": 4284608.278469734
   },
   {
    "level": 9,
    "resolution": 1859.635290474469,
    "scale": 2142304.139234867
   },
   {
    "level": 10,
    "resolution": 929.8176452372345,
    "scale": 1071152.0696174335
   },
   {
    "level": 11,
    "resolution": 464.90882261861725,
    "scale": 535576.0348087167
   },
   {
    "level": 12,
    "resolution": 232.45441130930863,
    "scale": 267788.01740435837
   },
   {
    "level": 13,
    "resolution": 116.22720565465431,
    "scale": 133894.00870217918
   },
   {
    "level": 14,
    "resolution": 58.113602827327156,
    "scale": 66947.00435108959
   },
   {
    "level": 15,
    "resolution": 29.056801413663578,
    "scale": 33473.502175544796
   },
   {
    "level": 16,
    "resolution": 14.528400706831789,
    "scale": 16736.751087772398
   },
   {
    "level": 17,
    "resolution": 7.2642003534158945,
    "scale": 8368.375543886199
   },
   {
    "level": 18,
    "resolution": 3.6321001767079473,
    "scale": 4184.1877719430995
   }
  ]
 },
 "initialExtent": {
  "xmin": 1419315.0289617649,
  "ymin": 494480.02476562484,
  "xmax": 1444480.7323577607,
  "ymax": 499881.7540299169,
  "spatialReference": {
   "wkid": 2893,
   "latestWkid": 2893,
   "xyTolerance": 0.003280833333333333,
   "zTolerance": 0.001,
   "mTolerance": 0.001,
   "falseX": -120561100,
   "falseY": -95444400,
   "xyUnits": 3048.0060960121928,
   "falseZ": -100000,
   "zUnits": 10000,
   "falseM": -100000,
   "mUnits": 10000
  }
 },
 "fullExtent": {
  "xmin": 1358386.8449217975,
  "ymin": 383395.6219125539,
  "xmax": 1482892.575896725,
  "ymax": 566190.7845367342,
  "spatialReference": {
   "wkid": 2893,
   "latestWkid": 2893,
   "xyTolerance": 0.003280833333333333,
   "zTolerance": 0.001,
   "mTolerance": 0.001,
   "falseX": -120561100,
   "falseY": -95444400,
   "xyUnits": 3048.0060960121928,
   "falseZ": -100000,
   "zUnits": 10000,
   "falseM": -100000,
   "mUnits": 10000
  }
 },
 "units": "esriFeet",
 "supportedImageFormatTypes": "PNG32,PNG24,PNG,JPG,DIB,TIFF,EMF,PS,PDF,GIF,SVG,SVGZ,BMP",
 "documentInfo": {
  "Title": "C:\\Users\\pzhovl99\\Documents\\FIDS\\Fid\\Fid.aprx",
  "Author": "",
  "Comments": "",
  "Subject": "",
  "Category": "",
  "AntialiasingMode": "None",
  "TextAntialiasingMode": "Force",
  "Version": "2.7.0",
  "Keywords": ""
 },
 "supportedQueryFormats": "JSON, geoJSON, PBF",
 "referenceScale": 0.0,
 "datumTransformations": [
  {
   "geoTransforms": [
    {
     "wkid": 1580,
     "latestWkid": 1580,
     "transformForward": false,
     "name": "NAD_1983_HARN_To_WGS_1984"
    }
   ]
  },
  {
   "geoTransforms": [
    {
     "wkid": 1580,
     "latestWkid": 1580,
     "transformForward": true,
     "name": "NAD_1983_HARN_To_WGS_1984"
    }
   ]
  },
  {
   "geoTransforms": [
    {
     "wkid": 1580,
     "latestWkid": 1580,
     "transformForward": false,
     "name": "NAD_1983_HARN_To_WGS_1984"
    }
   ]
  },
  {
   "geoTransforms": [
    {
     "wkid": 1580,
     "latestWkid": 1580,
     "transformForward": true,
     "name": "NAD_1983_HARN_To_WGS_1984"
    }
   ]
  }
 ],
 "supportsDatumTransformation": true,
 "archivingInfo": {
  "supportsHistoricMoment": false
 },
 "supportsClipping": true,
 "supportsSpatialFilter": true,
 "supportsQueryDataElements": true,
 "maxRecordCount": 1000,
 "maxImageHeight": 4096,
 "maxImageWidth": 4096,
 "capabilities": "TilesOnly,Tilemap",
 "minScale": 535576.0348087167,
 "maxScale": 8368.375543886199,
 "exportTilesAllowed": false,
 "maxExportTilesCount": 100000,
 "supportedExtensions": "",
 "serviceItemId": "5b7a3f77bdb14017840c5ba60887518a"
}
